BEGIN:VCALENDAR
VERSION:2.0
PRODID:-//217.160.0.248//NONSGML kigkonsult.se iCalcreator 2.20//
CALSCALE:GREGORIAN
METHOD:PUBLISH
X-WR-TIMEZONE:UTC
BEGIN:VEVENT
UID:event39@Renault 4 Club Deutschland
DTSTAMP:20260421T101349Z
CATEGORIES:Film
DESCRIPTION:Fernsehen: R4 - Freiheit auf vier Rädern\nKategorie: Film\nICS-
 Link: https://renault4.de/index.php?option=com_jem&view=event&id=39:fernse
 hen-r4-freiheit-auf-vier-raedern\n
DTSTART:20220101T181500Z
DTEND:20220101T181500Z
SUMMARY:Fernsehen: R4 - Freiheit auf vier Rädern
URL:https://renault4.de/index.php?option=com_jem&view=event&id=39:fernsehen
 -r4-freiheit-auf-vier-raedern
END:VEVENT
END:VCALENDAR