BEGIN:VCALENDAR
VERSION:2.0
PRODID:-//217.160.0.248//NONSGML kigkonsult.se iCalcreator 2.20//
CALSCALE:GREGORIAN
METHOD:PUBLISH
X-WR-TIMEZONE:UTC
BEGIN:VEVENT
UID:event22@Renault 4 Club Deutschland
DTSTAMP:20260423T090639Z
CATEGORIES:Treffen
DESCRIPTION:Sommer - R4 Werkstattag\nKategorie: Treffen\nICS-Link: https://
 renault4.de/index.php?option=com_jem&view=event&id=22:sommer-r4-werkstatta
 g-am-17-08-2019\n
DTSTART:20190817T110000Z
DTEND:20190817T190000Z
LOCATION:Bondorf\,71149 Bondorf
SUMMARY:Sommer - R4 Werkstattag
URL:https://renault4.de/index.php?option=com_jem&view=event&id=22:sommer-r4
 -werkstattag-am-17-08-2019
END:VEVENT
END:VCALENDAR