BEGIN:VCALENDAR
VERSION:2.0
PRODID:-//217.160.0.248//NONSGML kigkonsult.se iCalcreator 2.20//
CALSCALE:GREGORIAN
METHOD:PUBLISH
X-WR-TIMEZONE:UTC
BEGIN:VEVENT
UID:event17@Renault 4 Club Deutschland
DTSTAMP:20260421T084435Z
CATEGORIES:Treffen
DESCRIPTION:Frühjahrs-R4-Werkstatttag\nKategorie: Treffen\nICS-Link: https:
 //renault4.de/index.php?option=com_jem&view=event&id=17:fruehjars-r4-werks
 tatttag\n
DTSTART:20190406T090000Z
DTEND:20190406T190000Z
LOCATION:Bondorf\,71149 Bondorf
SUMMARY:Frühjahrs-R4-Werkstatttag
URL:https://renault4.de/index.php?option=com_jem&view=event&id=17:fruehjars
 -r4-werkstatttag
END:VEVENT
END:VCALENDAR