BEGIN:VCALENDAR
VERSION:2.0
PRODID:-//217.160.0.248//NONSGML kigkonsult.se iCalcreator 2.20//
CALSCALE:GREGORIAN
METHOD:PUBLISH
X-WR-TIMEZONE:UTC
BEGIN:VEVENT
UID:event14@Renault 4 Club Deutschland
DTSTAMP:20260421T101319Z
CATEGORIES:Treffen
DESCRIPTION:4. R4TATOUILLE\nKategorie: Treffen\nICS-Link: https://renault4.
 de/index.php?option=com_jem&view=event&id=14:jahrestreffen-2019-renault-4-
 club-deutschland\n
DTSTART;VALUE=DATE:20190816
DTEND;VALUE=DATE:20190819
LOCATION:Mittelhof\, Westerwald\,Roddern 1\,57537 Mittelhof
SUMMARY:4. R4TATOUILLE
URL:https://renault4.de/index.php?option=com_jem&view=event&id=14:jahrestre
 ffen-2019-renault-4-club-deutschland
END:VEVENT
END:VCALENDAR