BEGIN:VCALENDAR
VERSION:2.0
PRODID:-//217.160.0.248//NONSGML kigkonsult.se iCalcreator 2.20//
CALSCALE:GREGORIAN
METHOD:PUBLISH
X-WR-TIMEZONE:UTC
BEGIN:VEVENT
UID:event13@Renault 4 Club Deutschland
DTSTAMP:20260423T144954Z
CATEGORIES:Treffen
DESCRIPTION:Fahrt zum 4L International\nKategorie: Treffen\nICS-Link: https
 ://renault4.de/index.php?option=com_jem&view=event&id=13:fahrt-zum-4l-inte
 rnational\n
DTSTART;VALUE=DATE:20190718
DTEND;VALUE=DATE:20190720
LOCATION:Thenay / Frankreich\,20 Route des phages\,41400 Thenay
SUMMARY:Fahrt zum 4L International
URL:https://renault4.de/index.php?option=com_jem&view=event&id=13:fahrt-zum
 -4l-international
END:VEVENT
END:VCALENDAR