BEGIN:VCALENDAR
VERSION:2.0
PRODID:-//217.160.0.248//NONSGML kigkonsult.se iCalcreator 2.20//
CALSCALE:GREGORIAN
METHOD:PUBLISH
X-WR-TIMEZONE:UTC
BEGIN:VEVENT
UID:event42@Renault 4 Club Deutschland
DTSTAMP:20260421T110100Z
CATEGORIES:Treffen
DESCRIPTION:R4 Sommertreffen Mittelhof 2022\nKategorie: Treffen\nICS-Link: 
 http://renault4.de/index.php?option=com_jem&view=event&id=42:r4-sommertref
 fen-mittelhof-2022\n
DTSTART;VALUE=DATE:20220819
DTEND;VALUE=DATE:20220822
LOCATION:Mittelhof\, Westerwald\,Roddern 1\,57537 Mittelhof
SUMMARY:R4 Sommertreffen Mittelhof 2022
URL:http://renault4.de/index.php?option=com_jem&view=event&id=42:r4-sommert
 reffen-mittelhof-2022
END:VEVENT
END:VCALENDAR