BEGIN:VCALENDAR
VERSION:2.0
PRODID:-//217.160.0.248//NONSGML kigkonsult.se iCalcreator 2.20//
CALSCALE:GREGORIAN
METHOD:PUBLISH
X-WR-TIMEZONE:UTC
BEGIN:VEVENT
UID:event40@Renault 4 Club Deutschland
DTSTAMP:20260425T120914Z
CATEGORIES:Treffen
DESCRIPTION:60 Jahre Renault 4 in Deutschland\nKategorie: Treffen\nICS-Link
 : http://renault4.de/index.php?option=com_jem&view=event&id=40:60-jahre-re
 nault-4-in-deutschland\n
DTSTART;VALUE=DATE:20220708
DTEND;VALUE=DATE:20220711
LOCATION:Dorfprozelten
SUMMARY:60 Jahre Renault 4 in Deutschland
URL:http://renault4.de/index.php?option=com_jem&view=event&id=40:60-jahre-r
 enault-4-in-deutschland
END:VEVENT
END:VCALENDAR