BEGIN:VCALENDAR
VERSION:2.0
PRODID:-//217.160.0.248//NONSGML kigkonsult.se iCalcreator 2.20//
CALSCALE:GREGORIAN
METHOD:PUBLISH
X-WR-TIMEZONE:UTC
BEGIN:VEVENT
UID:event15@Renault 4 Club Deutschland
DTSTAMP:20260425T120915Z
CATEGORIES:Ausfahrt
DESCRIPTION:Herbstausfahrt des Renault 4 Clubs\nKategorie: Ausfahrt\nICS-Li
 nk: http://renault4.de/index.php?option=com_jem&view=event&id=15:herbstaus
 fahrt-des-renault-4-clubs\n
DTSTART;VALUE=DATE:20191012
DTEND;VALUE=DATE:20191014
SUMMARY:Herbstausfahrt des Renault 4 Clubs
URL:http://renault4.de/index.php?option=com_jem&view=event&id=15:herbstausf
 ahrt-des-renault-4-clubs
END:VEVENT
END:VCALENDAR