BEGIN:VCALENDAR
VERSION:2.0
PRODID:-//217.160.0.248//NONSGML kigkonsult.se iCalcreator 2.20//
CALSCALE:GREGORIAN
METHOD:PUBLISH
X-WR-TIMEZONE:UTC
BEGIN:VEVENT
UID:event12@Renault 4 Club Deutschland
DTSTAMP:20260421T104022Z
CATEGORIES:Treffen
DESCRIPTION:4L international 2019\nKategorie: Treffen\nICS-Link: http://ren
 ault4.de/index.php?option=com_jem&view=event&id=12:4l-international-2019\n
DTSTART;VALUE=DATE:20190719
DTEND;VALUE=DATE:20190722
LOCATION:Thenay / Frankreich\,20 Route des phages\,41400 Thenay
SUMMARY:4L international 2019
URL:http://renault4.de/index.php?option=com_jem&view=event&id=12:4l-interna
 tional-2019
END:VEVENT
END:VCALENDAR